BEGIN:VCALENDAR
VERSION:2.0
PRODID:-//Veggietables - ECPv4.9.6//NONSGML v1.0//EN
CALSCALE:GREGORIAN
METHOD:PUBLISH
X-WR-CALNAME:Veggietables
X-ORIGINAL-URL:https://veggietables.de
X-WR-CALDESC:Veranstaltungen für Veggietables
BEGIN:VTIMEZONE
TZID:"Europe/Berlin"
BEGIN:DAYLIGHT
TZOFFSETFROM:+0100
TZOFFSETTO:+0200
TZNAME:CEST
DTSTART:20150329T010000
END:DAYLIGHT
BEGIN:STANDARD
TZOFFSETFROM:+0200
TZOFFSETTO:+0100
TZNAME:CET
DTSTART:20151025T010000
END:STANDARD
END:VTIMEZONE
BEGIN:VEVENT
DTSTART;TZID="Europe/Berlin":20150917T173000
DTEND;TZID="Europe/Berlin":20150917T213000
DTSTAMP:20260422T202028
CREATED:20150624T205154Z
LAST-MODIFIED:20150819T142607Z
UID:132-1442511000-1442525400@veggietables.de
SUMMARY:Kleiner veganer Tapas-Abend in Nürnberg (Kochkurs)
DESCRIPTION:Tapas sind traditionelle Häppchen aus Spanien\, die immer in Gesellschaft verzehrt werden. Wir werden eine vegane Version einiger Klassiker zubereiten\, wie z.B. der Albóndigas (Fleischbällchen)\, aber auch solche Leckereien\, die im spanischen Original ohnehin vegetarisch oder vegan sind. Spanische Musik\, ein Glas Wein und ein spanisches Dessert sind mit von der Partie. \nNoch ein wichtiger Hinweis: Bitte bringen Sie Spül- und Geschirrtücher\, eine Schürze\, evtl. Vorratsbehälter\, sowie eigene Getränke mit. \n
URL:https://veggietables.de/event/veganer-tapas-abend/
LOCATION:Johannes-Scharrer-Gymnasium\, Webersplatz 19\, Nürnberg\, Bayern\, 90403\, Deutschland
CATEGORIES:Kochkurs
ATTACH;FMTTYPE=image/jpeg:https://veggietables.de/wp-content/uploads/2015/04/IMG_3908.jpg
END:VEVENT
END:VCALENDAR