BEGIN:VCALENDAR
VERSION:2.0
PRODID:-//Veggietables - ECPv4.9.6//NONSGML v1.0//EN
CALSCALE:GREGORIAN
METHOD:PUBLISH
X-WR-CALNAME:Veggietables
X-ORIGINAL-URL:https://veggietables.de
X-WR-CALDESC:Veranstaltungen für Veggietables
BEGIN:VTIMEZONE
TZID:"Europe/Berlin"
BEGIN:DAYLIGHT
TZOFFSETFROM:+0100
TZOFFSETTO:+0200
TZNAME:CEST
DTSTART:20150329T010000
END:DAYLIGHT
BEGIN:STANDARD
TZOFFSETFROM:+0200
TZOFFSETTO:+0100
TZNAME:CET
DTSTART:20151025T010000
END:STANDARD
END:VTIMEZONE
BEGIN:VEVENT
DTSTART;TZID="Europe/Berlin":20150802T100000
DTEND;TZID="Europe/Berlin":20150802T140000
DTSTAMP:20260422T202117
CREATED:20150728T092726Z
LAST-MODIFIED:20150728T092726Z
UID:218-1438509600-1438524000@veggietables.de
SUMMARY:Veganer Sommerbrunch
DESCRIPTION:  \n  \n  \n
URL:https://veggietables.de/event/veganer-sommerbrunch/
LOCATION:Stadtteilhaus Isar 12\, Isarstraße 12\, Erlangen\, 91052
CATEGORIES:Brunch
ATTACH;FMTTYPE=image/jpeg:https://veggietables.de/wp-content/uploads/2015/07/11292794_399250846942416_1375728683_n.jpg
END:VEVENT
END:VCALENDAR