BEGIN:VCALENDAR
VERSION:2.0
PRODID:-//Veggietables - ECPv4.9.6//NONSGML v1.0//EN
CALSCALE:GREGORIAN
METHOD:PUBLISH
X-WR-CALNAME:Veggietables
X-ORIGINAL-URL:https://veggietables.de
X-WR-CALDESC:Veranstaltungen für Veggietables
BEGIN:VTIMEZONE
TZID:"Europe/Berlin"
BEGIN:DAYLIGHT
TZOFFSETFROM:+0100
TZOFFSETTO:+0200
TZNAME:CEST
DTSTART:20180325T010000
END:DAYLIGHT
BEGIN:STANDARD
TZOFFSETFROM:+0200
TZOFFSETTO:+0100
TZNAME:CET
DTSTART:20181028T010000
END:STANDARD
END:VTIMEZONE
BEGIN:VEVENT
DTSTART;TZID="Europe/Berlin":20180610T163000
DTEND;TZID="Europe/Berlin":20180610T203000
DTSTAMP:20260421T092919
CREATED:20180125T195754Z
LAST-MODIFIED:20180125T195754Z
UID:1032-1528648200-1528662600@veggietables.de
SUMMARY:Vegane Basics (Workshop in Erlangen)
DESCRIPTION:Vegane Küche ist kein Hexenwerk\, und doch fällt vielen der Einstieg nicht ganz leicht. Wer einfach mal hineinschnuppern und erfahren möchte\, wie man sich ausgewogen\, vielfältig und lecker vegan ernähren kann\, welche Lebensmittel dabei helfen\, optimal mit wichtigen Nährstoffen versorgt zu sein\, und wie man diese zu alltagstauglichen Gerichten verarbeitet\, ist in diesem Workshop richtig. Wir bereiten aus frischem Gemüse\, Hülsenfrüchten und anderen hochwertigen Zutaten ein paar herzhafte und süße Gerichte zu\, die wir uns anschließend gemeinsam schmecken lassen. Fragen rund um die vegane Ernährung dürfen gern mitgebracht werden. \nACHTUNG: Dies ist ein Workshop in einer kleinen\, gemütlichen Küche. Die maximale Teilnehmerzahl ist mit 10 Personen niedriger als bei Kochkursen und es werden etwas weniger Gerichte gekocht. \n
URL:https://veggietables.de/event/vegane-basics-workshop-in-erlangen/
LOCATION:Lesecafé Anständing Essen\, Hauptstraße 55\, Erlangen\, 91054\, Deutschland
CATEGORIES:Workshop
ATTACH;FMTTYPE=image/jpeg:https://veggietables.de/wp-content/uploads/2015/06/11187776_468613369961274_3793494092414120795_o.jpg
END:VEVENT
END:VCALENDAR