BEGIN:VCALENDAR
VERSION:2.0
PRODID:-//Veggietables - ECPv4.9.6//NONSGML v1.0//EN
CALSCALE:GREGORIAN
METHOD:PUBLISH
X-WR-CALNAME:Veggietables
X-ORIGINAL-URL:https://veggietables.de
X-WR-CALDESC:Veranstaltungen für Veggietables
BEGIN:VTIMEZONE
TZID:"Europe/Berlin"
BEGIN:DAYLIGHT
TZOFFSETFROM:+0100
TZOFFSETTO:+0200
TZNAME:CEST
DTSTART:20190331T010000
END:DAYLIGHT
BEGIN:STANDARD
TZOFFSETFROM:+0200
TZOFFSETTO:+0100
TZNAME:CET
DTSTART:20191027T010000
END:STANDARD
END:VTIMEZONE
BEGIN:VEVENT
DTSTART;TZID="Europe/Berlin":20190503T173000
DTEND;TZID="Europe/Berlin":20190503T213000
DTSTAMP:20260422T102958
CREATED:20190130T124533Z
LAST-MODIFIED:20190130T124533Z
UID:1093-1556904600-1556919000@veggietables.de
SUMMARY:Vegan durch den Tag - Vom Frühstück bis zum Abendessen (Kochkurs in Oberasbach)
DESCRIPTION:Ob für Einsteiger\, Neugierige oder alte Hasen\, dieser Kurs liefert zahlreiche Ideen für alle Mahlzeiten des Tages und wir genießen sie im Schnelldurchlauf. Selbstgebackenes Brot und passende Aufstriche\, Alternativen zum schnöden Müsli\, Kreatives für den Mittagstisch oder unterwegs und Deftiges zum Abendessen. Außerdem erhalten Sie Ideen für Snacks und selbstverständlich auch ein Dessert. \n
URL:https://veggietables.de/event/vegan-durch-den-tag-vom-fruehstueck-bis-zum-abendessen-kochkurs-in-oberasbach/
LOCATION:Mittelschule Oberasbach\, Schulstraße 2\, Oberasbach\, 90522
CATEGORIES:Kochkurs
ATTACH;FMTTYPE=image/jpeg:https://veggietables.de/wp-content/uploads/2015/06/11656161_10205413166791767_18812516_o.jpg
END:VEVENT
END:VCALENDAR