BEGIN:VCALENDAR
VERSION:2.0
PRODID:-//Veggietables - ECPv4.9.6//NONSGML v1.0//EN
CALSCALE:GREGORIAN
METHOD:PUBLISH
X-WR-CALNAME:Veggietables
X-ORIGINAL-URL:https://veggietables.de
X-WR-CALDESC:Veranstaltungen für Veggietables
BEGIN:VTIMEZONE
TZID:"Europe/Berlin"
BEGIN:DAYLIGHT
TZOFFSETFROM:+0100
TZOFFSETTO:+0200
TZNAME:CEST
DTSTART:20150329T010000
END:DAYLIGHT
BEGIN:STANDARD
TZOFFSETFROM:+0200
TZOFFSETTO:+0100
TZNAME:CET
DTSTART:20151025T010000
END:STANDARD
END:VTIMEZONE
BEGIN:VEVENT
DTSTART;TZID="Europe/Berlin":20151024T160000
DTEND;TZID="Europe/Berlin":20151024T193000
DTSTAMP:20260422T202506
CREATED:20150819T130554Z
LAST-MODIFIED:20150819T141604Z
UID:291-1445702400-1445715000@veggietables.de
SUMMARY:Superfoods- Geballte Gesundheit und leckerer Trend (Workshop in Erlangen)
DESCRIPTION:Von Gojibeeren und Chiasamen über grüne Smoothies\, Acai und Matcha- Sie sind buchstäblich in aller Munde\, die sogenannten Superfoods!\n\nWas aber macht ein Lebensmittel zu einem Superfood und ist das eine so super wie das andere? Diesen und anderen Fragen rund um die neuen Stars in der Küche widmen wir uns in diesem Workshop. Im kulinarischen Teil heißt es dann ausprobieren und verkosten\, denn Sie lernen einige Einsatzmöglichkeiten verschiedener Superfoods kennen und genießen zum Abschluss das Ergebnis.\n\n\n
URL:https://veggietables.de/event/superfoods-geballte-gesundheit-und-leckerer-trend-workshop-in-erlangen/
CATEGORIES:Workshop
ATTACH;FMTTYPE=image/jpeg:https://veggietables.de/wp-content/uploads/2015/08/2015-08-19-12.48.45-e1439982281306.jpg
END:VEVENT
END:VCALENDAR