BEGIN:VCALENDAR
VERSION:2.0
PRODID:-//Veggietables - ECPv4.9.6//NONSGML v1.0//EN
CALSCALE:GREGORIAN
METHOD:PUBLISH
X-WR-CALNAME:Veggietables
X-ORIGINAL-URL:https://veggietables.de
X-WR-CALDESC:Veranstaltungen für Veggietables
BEGIN:VTIMEZONE
TZID:"Europe/Berlin"
BEGIN:DAYLIGHT
TZOFFSETFROM:+0100
TZOFFSETTO:+0200
TZNAME:CEST
DTSTART:20190331T010000
END:DAYLIGHT
BEGIN:STANDARD
TZOFFSETFROM:+0200
TZOFFSETTO:+0100
TZNAME:CET
DTSTART:20191027T010000
END:STANDARD
END:VTIMEZONE
BEGIN:VEVENT
DTSTART;TZID="Europe/Berlin":20190529T180000
DTEND;TZID="Europe/Berlin":20190529T220000
DTSTAMP:20260420T084047
CREATED:20190130T122552Z
LAST-MODIFIED:20190226T065323Z
UID:1087-1559152800-1559167200@veggietables.de
SUMMARY:Italienischer Abend mit veganer Küche (Kochkurs in Erlangen)
DESCRIPTION:Auf einer kulinarischen Reise durch Italien schöpfen wir aus der Gemüsevielfalt des Mittelmeerlandes und bereiten gleich zwei dreigängige Menüs zu\, die wir zu einem Glas Wein genießen. Mit von der Partie sind ein knuspriger Brotsalat mit mediterranem Gemüse und erstklassigem Olivenöl\, eine pflanzliche Version der klassischen Lasagne Bolognese mit selbstgemachter Pasta und ein Tiramisu\, das sie begeistern wird! Eine weitere Menüfolge kommt als Überraschung dazu. \n
URL:https://veggietables.de/event/italienischer-abend-mit-veganer-kueche-kochkurs-in-erlangen/
LOCATION:Eichendorfschule\, Bierlachweg 11\, Erlangen\, 91052
CATEGORIES:Kochkurs
ATTACH;FMTTYPE=image/jpeg:https://veggietables.de/wp-content/uploads/2015/06/11194620_468613339961277_1779801524840558072_o.jpg
END:VEVENT
END:VCALENDAR