BEGIN:VCALENDAR
VERSION:2.0
PRODID:-//Veggietables - ECPv4.9.6//NONSGML v1.0//EN
CALSCALE:GREGORIAN
METHOD:PUBLISH
X-WR-CALNAME:Veggietables
X-ORIGINAL-URL:https://veggietables.de
X-WR-CALDESC:Veranstaltungen für Veggietables
BEGIN:VTIMEZONE
TZID:"Europe/Berlin"
BEGIN:DAYLIGHT
TZOFFSETFROM:+0100
TZOFFSETTO:+0200
TZNAME:CEST
DTSTART:20150329T010000
END:DAYLIGHT
BEGIN:STANDARD
TZOFFSETFROM:+0200
TZOFFSETTO:+0100
TZNAME:CET
DTSTART:20151025T010000
END:STANDARD
END:VTIMEZONE
BEGIN:VEVENT
DTSTART;TZID="Europe/Berlin":20151017T100000
DTEND;TZID="Europe/Berlin":20151017T150000
DTSTAMP:20260422T202312
CREATED:20150819T104516Z
LAST-MODIFIED:20150827T115456Z
UID:288-1445076000-1445094000@veggietables.de
SUMMARY:Deftige vegane Herbstküche in Fürth (Kochkurs)
DESCRIPTION:Der Herbst hat kulinarisch viel zu bieten und es wird bunt und deftig in Topf und Backofen! Aus rein pflanzlichen Zutaten bereiten wir ein Buffet zu und genießen unter anderem \nKübiskernsemmelknödel in sahniger Soße von Zucchini und Kürbis\, Wachtelbohnen-Süßkartoffel-Eintopf mit Avocado-Limetten Topping\, sowie Frikadellen mit getrüffeltem Kartoffel-Sellerie-Stampf und Apfel-Merrettichsoße. Zum Nachtisch gibt es süßen Hirse-Apfel-Auflauf mit Kokos-Pflaumenschlag. \n\n
URL:https://veggietables.de/event/deftige-vegane-herbstkueche-in-fuerth-kochkurs/
LOCATION:VHS Fürth
CATEGORIES:Kochkurs
ATTACH;FMTTYPE=image/jpeg:https://veggietables.de/wp-content/uploads/2015/08/IMG_8869.jpg
END:VEVENT
END:VCALENDAR