BEGIN:VCALENDAR
VERSION:2.0
PRODID:-//Veggietables - ECPv4.9.6//NONSGML v1.0//EN
CALSCALE:GREGORIAN
METHOD:PUBLISH
X-WR-CALNAME:Veggietables
X-ORIGINAL-URL:https://veggietables.de
X-WR-CALDESC:Veranstaltungen für Veggietables
BEGIN:VTIMEZONE
TZID:"Europe/Berlin"
BEGIN:DAYLIGHT
TZOFFSETFROM:+0100
TZOFFSETTO:+0200
TZNAME:CEST
DTSTART:20150329T010000
END:DAYLIGHT
BEGIN:STANDARD
TZOFFSETFROM:+0200
TZOFFSETTO:+0100
TZNAME:CET
DTSTART:20151025T010000
END:STANDARD
END:VTIMEZONE
BEGIN:VEVENT
DTSTART;TZID="Europe/Berlin":20151010T160000
DTEND;TZID="Europe/Berlin":20151010T210000
DTSTAMP:20260422T202419
CREATED:20150819T103631Z
LAST-MODIFIED:20150819T140342Z
UID:284-1444492800-1444510800@veggietables.de
SUMMARY:Deftige vegane Herbstküche in Erlangen (Kochkurs)
DESCRIPTION:Der Herbst hat kulinarisch viel zu bieten und es wird bunt und deftig in Topf und Backofen! Aus rein pflanzlichen Zutaten bereiten wir ein Buffet zu und genießen unter anderem \nKübiskernsemmelknödel in sahniger Soße von Zucchini und Kürbis\, Wachtelbohnen-Süßkartoffel-Eintopf mit Avocado-Limetten Topping\, sowie Frikadellen mit getrüffeltem Kartoffel-Sellerie-Stampf und Apfel-Merrettichsoße. Zum Nachtisch gibt es süßen Hirse-Apfel-Auflauf mit Kokos-Pflaumenschlag.  \n\n
URL:https://veggietables.de/event/deftige-vegane-herbstkueche-in-erlangen-kochkurs/
LOCATION:Eichendorfschule\, Bierlachweg 11\, Erlangen\, 91052
CATEGORIES:Kochkurs
ATTACH;FMTTYPE=image/jpeg:https://veggietables.de/wp-content/uploads/2015/08/IMG_8869.jpg
END:VEVENT
END:VCALENDAR